BEGIN:VCALENDAR
VERSION:2.0
PRODID:-// Research Week - ECPv6.1.3//NONSGML v1.0//EN
CALSCALE:GREGORIAN
METHOD:PUBLISH
X-WR-CALNAME: Research Week
X-ORIGINAL-URL:https://researchweek.wsu.edu
X-WR-CALDESC:Events for  Research Week
REFRESH-INTERVAL;VALUE=DURATION:PT1H
X-Robots-Tag:noindex
X-PUBLISHED-TTL:PT1H
BEGIN:VTIMEZONE
TZID:America/Los_Angeles
BEGIN:DAYLIGHT
TZOFFSETFROM:-0800
TZOFFSETTO:-0700
TZNAME:PDT
DTSTART:20190310T100000
END:DAYLIGHT
BEGIN:STANDARD
TZOFFSETFROM:-0700
TZOFFSETTO:-0800
TZNAME:PST
DTSTART:20191103T090000
END:STANDARD
END:VTIMEZONE
BEGIN:VEVENT
DTSTART;TZID=America/Los_Angeles:20191023T100000
DTEND;TZID=America/Los_Angeles:20191023T120000
DTSTAMP:20260420T220417
CREATED:20190624T210248Z
LAST-MODIFIED:20190624T210248Z
UID:449-1571824800-1571832000@researchweek.wsu.edu
SUMMARY:RA & $10k Competition
DESCRIPTION:A seed grant opportunity for developing a new\, innovative\, research idea that will lead to extramural funding or other professional achievement.
URL:https://researchweek.wsu.edu/event/ra-10k-competition/
LOCATION:Honors College Lounge
END:VEVENT
BEGIN:VEVENT
DTSTART;TZID=America/Los_Angeles:20191023T130000
DTEND;TZID=America/Los_Angeles:20191023T140000
DTSTAMP:20260420T220417
CREATED:20190624T210453Z
LAST-MODIFIED:20190624T210453Z
UID:452-1571835600-1571839200@researchweek.wsu.edu
SUMMARY:Career Award Recipients & Info Session
DESCRIPTION:Hear from past recipients and learn about the assistance you can receive when applying.
URL:https://researchweek.wsu.edu/event/career-award-recipients-info-session/
LOCATION:Honors College Lounge
END:VEVENT
BEGIN:VEVENT
DTSTART;TZID=America/Los_Angeles:20191024T163000
DTEND;TZID=America/Los_Angeles:20191024T183000
DTSTAMP:20260420T220417
CREATED:20190624T214228Z
LAST-MODIFIED:20190624T214228Z
UID:468-1571934600-1571941800@researchweek.wsu.edu
SUMMARY:Center for Arts and Humanities Grand Opening Speaker & Reception
DESCRIPTION:Dr. Jon Parrish Peede\, Chairman\, National Endowment for the Humanities. 
URL:https://researchweek.wsu.edu/event/center-for-arts-and-humanities-grand-opening-speaker-reception/
LOCATION:Honors College Lounge
END:VEVENT
END:VCALENDAR